BEGIN:VCALENDAR
VERSION:2.0
PRODID:-//wp-events-plugin.com//7.2.3.1//EN
BEGIN:VEVENT
UID:47@laundrylovesantaana.org
DTSTART;TZID=America/Los_Angeles:20220915T190000
DTEND;TZID=America/Los_Angeles:20220915T221500
DTSTAMP:20220801T192739Z
URL:https://laundrylovesantaana.org/events/laundry-love-santa-ana-13-year-
 anniversary/
SUMMARY:Laundry Love Santa Ana 13 Year Anniversary
DESCRIPTION:13 years. Laundry Love Santa Ana has been around for 13 years. 
 Especially\, as we move forward post pandemic\, we are so excited to celeb
 rate with you all.\n\nPlease contact us if you'd like to bring anything\, 
 but most importantly\, we really want you to come with your friends\, read
 y to have a good time.
ATTACH;FMTTYPE=image/jpeg:https://i0.wp.com/laundrylovesantaana.org/wp-con
 tent/uploads/2018/11/13-year-anniversary.jpg?fit=1080%2C1080&ssl=1
LOCATION:Lavanderia Santa Ana\, 406 East Santa Ana Blvd\, Santa Ana\, Ca\, 
 92701\, United States
X-APPLE-STRUCTURED-LOCATION;VALUE=URI;X-ADDRESS=406 East Santa Ana Blvd\, S
 anta Ana\, Ca\, 92701\, United States;X-APPLE-RADIUS=100;X-TITLE=Lavanderi
 a Santa Ana:geo:0,0
END:VEVENT
BEGIN:VTIMEZONE
TZID:America/Los_Angeles
X-LIC-LOCATION:America/Los_Angeles
BEGIN:DAYLIGHT
DTSTART:20220313T030000
TZOFFSETFROM:-0800
TZOFFSETTO:-0700
TZNAME:PDT
END:DAYLIGHT
END:VTIMEZONE
END:VCALENDAR